BEGIN:VCALENDAR
VERSION:2.0
PRODID:-//equinte Integration - ECPv6.15.20//NONSGML v1.0//EN
CALSCALE:GREGORIAN
METHOD:PUBLISH
X-WR-CALNAME:equinte Integration
X-ORIGINAL-URL:https://www.equineintegration.com/nl/
X-WR-CALDESC:Evenementen voor equinte Integration
REFRESH-INTERVAL;VALUE=DURATION:PT1H
X-Robots-Tag:noindex
X-PUBLISHED-TTL:PT1H
BEGIN:VTIMEZONE
TZID:Europe/Amsterdam
BEGIN:DAYLIGHT
TZOFFSETFROM:+0100
TZOFFSETTO:+0200
TZNAME:CEST
DTSTART:20250330T010000
END:DAYLIGHT
BEGIN:STANDARD
TZOFFSETFROM:+0200
TZOFFSETTO:+0100
TZNAME:CET
DTSTART:20251026T010000
END:STANDARD
BEGIN:DAYLIGHT
TZOFFSETFROM:+0100
TZOFFSETTO:+0200
TZNAME:CEST
DTSTART:20260329T010000
END:DAYLIGHT
BEGIN:STANDARD
TZOFFSETFROM:+0200
TZOFFSETTO:+0100
TZNAME:CET
DTSTART:20261025T010000
END:STANDARD
BEGIN:DAYLIGHT
TZOFFSETFROM:+0100
TZOFFSETTO:+0200
TZNAME:CEST
DTSTART:20270328T010000
END:DAYLIGHT
BEGIN:STANDARD
TZOFFSETFROM:+0200
TZOFFSETTO:+0100
TZNAME:CET
DTSTART:20271031T010000
END:STANDARD
END:VTIMEZONE
BEGIN:VEVENT
DTSTART;VALUE=DATE:20260911
DTEND;VALUE=DATE:20261024
DTSTAMP:20260424T180858
CREATED:20240524T111833Z
LAST-MODIFIED:20240524T112043Z
UID:2160-1789084800-1792799999@www.equineintegration.com
SUMMARY:Welzijn & Training'24 - Cursus
DESCRIPTION:Tijdens ons programma leer je\, zowel in theorie als in de praktijk\, alle aspecten rondom de sportfysiologie\, het welzijn en het management van het paard. Het programma wordt gegeven door academische experts en is gebaseerd op de laatste wetenschappelijke inzichten. Het programma bestaat uit drie live modules die elk een dag beslaan. Voorafgaand aan de cursus en tussen de modules door kun je verder studeren in onze e-learningomgeving. Hier vind je niet alleen een aanvullende online cursus\, maar ook extra supplementair materiaal\, en diverse wetenschappelijke papers en interessante links. Tijdens de cursus zullen diverse praktische casussen geanalyseerd en besproken worden en  is er de mogelijkheid om je eigen paard mee te nemen voor analyse! \nProgramma overzicht \n\nModule 1 (Vrijdag 27 September 2024): De basis van sportfysiologie\, thermoregulatie en gebruik hartslagmeter bij het paard\nModule 2 (Vrijdag 11 Oktober 2024): Trainingsanalyse en interpretatie van data\, relatie met welzijn en training\nModule 3 (Vrijdag 1 November 2024): Analyseren en opstellen van trainingsprogramma’s\, integratie van kennis\n\n  \n\nVerdere informatie en cursusprogramma beschikbaar op: \nhttps://www.equineintegration.com/moxie/?page_id=554 \nMeld je aan op: \nhttps://www.equineintegration.com/aanmeldformulier/
URL:https://www.equineintegration.com/nl/training/welzijn-training24-cursus/
LOCATION:Sorensen Stables\, Groenstaat 2c\, Hoogeloon
ATTACH;FMTTYPE=image/jpeg:https://www.equineintegration.com/wp-content/uploads/2024/05/10-1.jpg
END:VEVENT
END:VCALENDAR